BEGIN:VCALENDAR
VERSION:2.0
PRODID:-//Faith&amp;Hope - ECPv6.15.16//NONSGML v1.0//EN
CALSCALE:GREGORIAN
METHOD:PUBLISH
X-ORIGINAL-URL:https://therayofhope.in
X-WR-CALDESC:Events for Faith&amp;Hope
REFRESH-INTERVAL;VALUE=DURATION:PT1H
X-Robots-Tag:noindex
X-PUBLISHED-TTL:PT1H
BEGIN:VTIMEZONE
TZID:UTC
BEGIN:STANDARD
TZOFFSETFROM:+0000
TZOFFSETTO:+0000
TZNAME:UTC
DTSTART:20220101T000000
END:STANDARD
END:VTIMEZONE
BEGIN:VEVENT
DTSTART;TZID=UTC:20231001T110000
DTEND;TZID=UTC:20231001T140000
DTSTAMP:20260423T183258
CREATED:20160829T163152Z
LAST-MODIFIED:20210622T103348Z
UID:161-1696158000-1696168800@therayofhope.in
SUMMARY:A Month of Prayers for Your Church
DESCRIPTION:Pellentesque habitant morbi tristique senectus et netus et malesuada fames ac turpis egestas. Aliquam eget rutrum risus. Nullam mauris metus\, porta id arcu quis\, hendrerit tristique ipsum. Pellentesque auctor scelerisque lacus\, quis dictum ex pretium at. Nunc ultricies orci enim\, a efficitur purus ultrices eget. Ut varius bibendum nisi id porttitor. Donec commodo cursus turpis\, vitae luctus tortor fermentum in. Aliquam sodales est vestibulum sapien malesuada tempus. Mauris eget purus id tortor eleifend porta. Proin quis nisl imperdiet\, porta nulla a\, semper ipsum. Nullam interdum elementum ipsum\, non iaculis erat pharetra non. Mauris luctus dolor a risus laoreet fringilla. \nMorbi malesuada dignissim ornare. Nam hendrerit ac mauris sit amet tempus. Vestibulum tincidunt tincidunt enim\, sed mattis risus. Maecenas facilisis\, risus id pharetra elementum\, ipsum augue condimentum nibh\, ut egestas purus justo ut purus. Nullam id urna a massa mattis tincidunt nec vitae lorem. Sed quis elit posuere\, congue diam ac\, varius ex. In in pharetra quam. Ut in feugiat eros. Nullam venenatis hendrerit augue\, quis tempus augue consequat vitae. Cras semper pretium eros nec aliquet.
URL:https://therayofhope.in/event/a-month-of-prayers-for-your-church/
LOCATION:City Hall\, 6562 Orange Street Leominster\, MA 01453
CATEGORIES:Upcoming
ATTACH;FMTTYPE=image/png:https://therayofhope.in/wp-content/uploads/2016/08/event-11.png
ORGANIZER;CN="Pastor Shlag":MAILTO:yoursite@info.com
END:VEVENT
BEGIN:VEVENT
DTSTART;TZID=UTC:20230902T100000
DTEND;TZID=UTC:20230902T150000
DTSTAMP:20260423T183258
CREATED:20160829T162825Z
LAST-MODIFIED:20210622T121444Z
UID:159-1693648800-1693666800@therayofhope.in
SUMMARY:New Bible Study Lessons for All Ages
DESCRIPTION:Pellentesque habitant morbi tristique senectus et netus et malesuada fames ac turpis egestas. Aliquam eget rutrum risus. Nullam mauris metus\, porta id arcu quis\, hendrerit tristique ipsum. Pellentesque auctor scelerisque lacus\, quis dictum ex pretium at. Nunc ultricies orci enim\, a efficitur purus ultrices eget. Ut varius bibendum nisi id porttitor. Donec commodo cursus turpis\, vitae luctus tortor fermentum in. Aliquam sodales est vestibulum sapien malesuada tempus. Mauris eget purus id tortor eleifend porta. Proin quis nisl imperdiet\, porta nulla a\, semper ipsum. Nullam interdum elementum ipsum\, non iaculis erat pharetra non. Mauris luctus dolor a risus laoreet fringilla. \nMorbi malesuada dignissim ornare. Nam hendrerit ac mauris sit amet tempus. Vestibulum tincidunt tincidunt enim\, sed mattis risus. Maecenas facilisis\, risus id pharetra elementum\, ipsum augue condimentum nibh\, ut egestas purus justo ut purus. Nullam id urna a massa mattis tincidunt nec vitae lorem. Sed quis elit posuere\, congue diam ac\, varius ex. In in pharetra quam. Ut in feugiat eros. Nullam venenatis hendrerit augue\, quis tempus augue consequat vitae. Cras semper pretium eros nec aliquet.
URL:https://therayofhope.in/event/new-bible-study-lessons-for-all-ages/
LOCATION:City Hall\, 6562 Orange Street Leominster\, MA 01453
CATEGORIES:Upcoming
ATTACH;FMTTYPE=image/png:https://therayofhope.in/wp-content/uploads/2016/08/event-31.png
ORGANIZER;CN="Pastor Shlag":MAILTO:yoursite@info.com
END:VEVENT
BEGIN:VEVENT
DTSTART;TZID=UTC:20230823T080000
DTEND;TZID=UTC:20230823T170000
DTSTAMP:20260423T183258
CREATED:20160829T160925Z
LAST-MODIFIED:20210622T104928Z
UID:156-1692777600-1692810000@therayofhope.in
SUMMARY:Summer Worship Night Childcare
DESCRIPTION:Pellentesque habitant morbi tristique senectus et netus et malesuada fames ac turpis egestas. Aliquam eget rutrum risus. Nullam mauris metus\, porta id arcu quis\, hendrerit tristique ipsum. Pellentesque auctor scelerisque lacus\, quis dictum ex pretium at. Nunc ultricies orci enim\, a efficitur purus ultrices eget. Ut varius bibendum nisi id porttitor. Donec commodo cursus turpis\, vitae luctus tortor fermentum in. Aliquam sodales est vestibulum sapien malesuada tempus. Mauris eget purus id tortor eleifend porta. Proin quis nisl imperdiet\, porta nulla a\, semper ipsum. Nullam interdum elementum ipsum\, non iaculis erat pharetra non. Mauris luctus dolor a risus laoreet fringilla. \nMorbi malesuada dignissim ornare. Nam hendrerit ac mauris sit amet tempus. Vestibulum tincidunt tincidunt enim\, sed mattis risus. Maecenas facilisis\, risus id pharetra elementum\, ipsum augue condimentum nibh\, ut egestas purus justo ut purus. Nullam id urna a massa mattis tincidunt nec vitae lorem. Sed quis elit posuere\, congue diam ac\, varius ex. In in pharetra quam. Ut in feugiat eros. Nullam venenatis hendrerit augue\, quis tempus augue consequat vitae. Cras semper pretium eros nec aliquet.
URL:https://therayofhope.in/event/summer-worship-night-childcare/
LOCATION:City Hall\, 6562 Orange Street Leominster\, MA 01453
CATEGORIES:Upcoming
ATTACH;FMTTYPE=image/png:https://therayofhope.in/wp-content/uploads/2016/08/event-21.png
ORGANIZER;CN="Pastor Shlag":MAILTO:yoursite@info.com
END:VEVENT
END:VCALENDAR